BEGIN:VCALENDAR
VERSION:2.0
PRODID:-// - ECPv6.1.3//NONSGML v1.0//EN
CALSCALE:GREGORIAN
METHOD:PUBLISH
X-ORIGINAL-URL:https://www.mindforlife.org.au
X-WR-CALDESC:Events for 
REFRESH-INTERVAL;VALUE=DURATION:PT1H
X-Robots-Tag:noindex
X-PUBLISHED-TTL:PT1H
BEGIN:VTIMEZONE
TZID:Australia/Sydney
BEGIN:STANDARD
TZOFFSETFROM:+1100
TZOFFSETTO:+1000
TZNAME:AEST
DTSTART:20190406T160000
END:STANDARD
BEGIN:DAYLIGHT
TZOFFSETFROM:+1000
TZOFFSETTO:+1100
TZNAME:AEDT
DTSTART:20191005T160000
END:DAYLIGHT
BEGIN:STANDARD
TZOFFSETFROM:+1100
TZOFFSETTO:+1000
TZNAME:AEST
DTSTART:20200404T160000
END:STANDARD
BEGIN:DAYLIGHT
TZOFFSETFROM:+1000
TZOFFSETTO:+1100
TZNAME:AEDT
DTSTART:20201003T160000
END:DAYLIGHT
END:VTIMEZONE
BEGIN:VEVENT
DTSTART;TZID=Australia/Sydney:20200610T170000
DTEND;TZID=Australia/Sydney:20200730T220000
DTSTAMP:20260425T060254
CREATED:20200607T184812Z
LAST-MODIFIED:20200615T160359Z
UID:5683-1591808400-1596146400@www.mindforlife.org.au
SUMMARY:Healthy Eating and Lifestyle Program
DESCRIPTION:Establishing healthy habits is the key to achieving a healthier you.  \nWe are here to help\, Come and join our weight loss program HELP (Healthy Eating and Lifestyle Program)\, run by our Accredited Practicing Dietitian who can guide you step by step on your weight loss journey\, help you with small changes at a time to improve your total wellbeing and mind. \n \n  \nSet yourself for a healthier you\, prevent complications of chronic diseases. The Program is suitable for ages 18-60 Years Old. We are implementing a 12 week program educating you on simple ways to get healthy. \nHealthy Eating ( first 7 weeks)  \nExercise Program (1 Week) \nAdopting Healthy Eating Habits (2 weeks) \nHealthy Cooking methods (1 Week) \nHealthy Shopping tips (1 Week) \nTogether\, lots of small changes can make a big difference. \nRegister with us\,please click the below button: \nRegister With Us \n*These programs are free but donations will be appreciated. \n  \n 
URL:https://www.mindforlife.org.au/event/helphealthy-eating-and-lifestyle-program/
ATTACH;FMTTYPE=image/jpeg:https://www.mindforlife.org.au/wp-content/uploads/2020/06/event1.jpg
END:VEVENT
BEGIN:VEVENT
DTSTART;TZID=Australia/Sydney:20200610T170000
DTEND;TZID=Australia/Sydney:20200730T220000
DTSTAMP:20260425T060254
CREATED:20200607T184812Z
LAST-MODIFIED:20200607T184812Z
UID:9912-1591808400-1596146400@www.mindforlife.org.au
SUMMARY:Healthy Eating and Lifestyle Program
DESCRIPTION:Establishing healthy habits is the key to achieving a healthier you.  \nWe are here to help\, Come and join our weight loss program HELP (Healthy Eating and Lifestyle Program)\, run by our Accredited Practicing Dietitian who can guide you step by step on your weight loss journey\, help you with small changes at a time to improve your total wellbeing and mind. \n \n  \nSet yourself for a healthier you\, prevent complications of chronic diseases. The Program is suitable for ages 18-60 Years Old. We are implementing a 12 week program educating you on simple ways to get healthy. \nHealthy Eating ( first 7 weeks)  \nExercise Program (1 Week) \nAdopting Healthy Eating Habits (2 weeks) \nHealthy Cooking methods (1 Week) \nHealthy Shopping tips (1 Week) \nTogether\, lots of small changes can make a big difference. \nRegister with us\,please click the below button: \nRegister With Us \n*These programs are free but donations will be appreciated. \n  \n 
URL:https://www.mindforlife.org.au/event/helphealthy-eating-and-lifestyle-program-2/
ATTACH;FMTTYPE=image/jpeg:https://www.mindforlife.org.au/wp-content/uploads/2020/06/event1.jpg
END:VEVENT
BEGIN:VEVENT
DTSTART;TZID=Australia/Sydney:20191129T190000
DTEND;TZID=Australia/Sydney:20191129T220000
DTSTAMP:20260425T060254
CREATED:20191029T044138Z
LAST-MODIFIED:20191114T165653Z
UID:5429-1575054000-1575064800@www.mindforlife.org.au
SUMMARY:MFL Fundraising Cruise Dinner Event
DESCRIPTION:Countdown\n\n\n\n\nWe all are at the end of 2019\, think once how hard you work\, how much stress you got ? Do you still want to carry all these to 2020? Of course not\, you need a break to be energised. Now it is time to forget all you stressful events and have a good time spent with your loved one to welcome the 2020 with full of love\, care and energy. So here we present you the most waited moment CRUISE DINNER on 29 November. You will be even much more happy to know that your funds will be contributed for online lifestyle treatment of the community. \n  \n\nhttps://www.mindforlife.org.au/wp-content/uploads/2019/11/Cruise-Adone.Compressed.Compressed-1.m4v\n  \nYou will receive your DGR Tax deductable \nTicket includes: \n\nDinner\nDrinks\nEntertainment\n\nTickets & Find Out More
URL:https://www.mindforlife.org.au/event/mfl-fundraising-cruise-dinner-event/
LOCATION:Sydney Events Cruise\, King Street Wharf #6 Darling Harbour\, Sydney\, NSW\, 2000\, Australia
ATTACH;FMTTYPE=image/jpeg:https://www.mindforlife.org.au/wp-content/uploads/2019/10/cruise-ad-website.jpg
END:VEVENT
BEGIN:VEVENT
DTSTART;TZID=Australia/Sydney:20191129T190000
DTEND;TZID=Australia/Sydney:20191129T220000
DTSTAMP:20260425T060254
CREATED:20191029T044138Z
LAST-MODIFIED:20191029T044138Z
UID:9910-1575054000-1575064800@www.mindforlife.org.au
SUMMARY:MFL Fundraising Cruise Dinner Event
DESCRIPTION:Countdown\n\n\n\n\nWe all are at the end of 2019\, think once how hard you work\, how much stress you got ? Do you still want to carry all these to 2020? Of course not\, you need a break to be energised. Now it is time to forget all you stressful events and have a good time spent with your loved one to welcome the 2020 with full of love\, care and energy. So here we present you the most waited moment CRUISE DINNER on 29 November. You will be even much more happy to know that your funds will be contributed for online lifestyle treatment of the community. \n  \nhttp://redesign.mindforlife.org.au/wp-content/uploads/2019/11/Cruise-Adone.Compressed.Compressed-1.m4v\n  \nYou will receive your DGR Tax deductable \nTicket includes: \n\nDinner\nDrinks\nEntertainment\n\nTickets & Find Out More
URL:https://www.mindforlife.org.au/event/mfl-fundraising-cruise-dinner-event-2/
LOCATION:Sydney Events Cruise\, King Street Wharf #6 Darling Harbour\, Sydney\, NSW\, 2000\, Australia
ATTACH;FMTTYPE=image/jpeg:https://www.mindforlife.org.au/wp-content/uploads/2019/10/cruise-ad-website.jpg
END:VEVENT
BEGIN:VEVENT
DTSTART;TZID=Australia/Sydney:20190926T110000
DTEND;TZID=Australia/Sydney:20190926T130000
DTSTAMP:20260425T060254
CREATED:20190922T054553Z
LAST-MODIFIED:20190922T063529Z
UID:4936-1569495600-1569502800@www.mindforlife.org.au
SUMMARY:Group Meditation
DESCRIPTION:Please join us to learn how to overcome stress or overweight issues with simple NLP techniques that will help you to changes unwanted behaviours!\n\nPlace: Parramatta Park Corner (3 George St\, Parramatta)\nDate:26th September\,2019\nTime Arriving : 11.00am\nStart Time :11.30am\nPlease send us an email on info@mindforlife.org.au
URL:https://www.mindforlife.org.au/event/meditation-group/
LOCATION:Parramatta Park Corner\, 3 George St\, Parramatta\, NSW\, 2150\, Australia
ATTACH;FMTTYPE=image/png:https://www.mindforlife.org.au/wp-content/uploads/2019/09/Group-Meditation.png
END:VEVENT
BEGIN:VEVENT
DTSTART;TZID=Australia/Sydney:20190926T110000
DTEND;TZID=Australia/Sydney:20190926T130000
DTSTAMP:20260425T060254
CREATED:20190922T054553Z
LAST-MODIFIED:20190922T054553Z
UID:9909-1569495600-1569502800@www.mindforlife.org.au
SUMMARY:Group Meditation
DESCRIPTION:Please join us to learn how to overcome stress or overweight issues with simple NLP techniques that will help you to changes unwanted behaviours!\n\nPlace: Parramatta Park Corner (3 George St\, Parramatta)\nDate:26th September\,2019\nTime Arriving : 11.00am\nStart Time :11.30am\nPlease send us an email on info@mindforlife.org.au
URL:https://www.mindforlife.org.au/event/meditation-group-2/
LOCATION:Parramatta Park Corner\, 3 George St\, Parramatta\, NSW\, 2150\, Australia
ATTACH;FMTTYPE=image/png:https://www.mindforlife.org.au/wp-content/uploads/2019/09/Group-Meditation.png
END:VEVENT
BEGIN:VEVENT
DTSTART;TZID=Australia/Sydney:20190920T120000
DTEND;TZID=Australia/Sydney:20190920T130000
DTSTAMP:20260425T060254
CREATED:20190913T023115Z
LAST-MODIFIED:20190915T161214Z
UID:4914-1568980800-1568984400@www.mindforlife.org.au
SUMMARY:Motivational Healthy Lifestyle Tips to Fight Mental Stress Talk Show - Part 2
DESCRIPTION:Join and watch our next YouTube Live event focused on Emily’s make over to become healthier and fitter. We will work on mindfulness strategies and tips about how to eat healthy meals. We will use simple strategies how she can re-program her mindset into a be more positive so she can become healthier and fitter for life! \nPlease join us Motivational Mind-Healthy Lifestyle Youtube Live Talk Show.\n\n\n  \nPlease send us your enquiries prior to our event for further support.\nSubscribe To Our Youtube Channel For Stay Connected Click The Below Button\n\n  \nFor A Healthy Mind To A Healthy Body! Watch Part 1 here –
URL:https://www.mindforlife.org.au/event/motivational-healthy-lifestyle-tips-to-fight-mental-stress-talk-show-part-2/
LOCATION:Mindforlife Youtube channel
ATTACH;FMTTYPE=image/jpeg:https://www.mindforlife.org.au/wp-content/uploads/2019/09/talk-show-ad-3.jpg
END:VEVENT
BEGIN:VEVENT
DTSTART;TZID=Australia/Sydney:20190920T120000
DTEND;TZID=Australia/Sydney:20190920T130000
DTSTAMP:20260425T060254
CREATED:20190913T023115Z
LAST-MODIFIED:20190913T023115Z
UID:9908-1568980800-1568984400@www.mindforlife.org.au
SUMMARY:Motivational Healthy Lifestyle Tips to Fight Mental Stress Talk Show - Part 2
DESCRIPTION:Join and watch our next YouTube Live event focused on Emily’s make over to become healthier and fitter. We will work on mindfulness strategies and tips about how to eat healthy meals. We will use simple strategies how she can re-program her mindset into a be more positive so she can become healthier and fitter for life! \nPlease join us Motivational Mind-Healthy Lifestyle Youtube Live Talk Show.\n\n\n  \nPlease send us your enquiries prior to our event for further support.\nSubscribe To Our Youtube Channel For Stay Connected Click The Below Button\n\n  \nFor A Healthy Mind To A Healthy Body! Watch Part 1 here –
URL:https://www.mindforlife.org.au/event/motivational-healthy-lifestyle-tips-to-fight-mental-stress-talk-show-part-2-2/
LOCATION:Mindforlife Youtube channel
ATTACH;FMTTYPE=image/jpeg:https://www.mindforlife.org.au/wp-content/uploads/2019/09/talk-show-ad-3.jpg
END:VEVENT
BEGIN:VEVENT
DTSTART;TZID=Australia/Sydney:20190909T120000
DTEND;TZID=Australia/Sydney:20190909T130000
DTSTAMP:20260425T060254
CREATED:20190827T000648Z
LAST-MODIFIED:20190913T032255Z
UID:4793-1568030400-1568034000@www.mindforlife.org.au
SUMMARY:Motivational Mind - Healthy Lifestyle YouTube Live Talk Show
DESCRIPTION:YOUTUBE LIVE – TALK SHOW\nOUR  PURPOSE \nMind For Life aims to create meaningful connections within WORLDWIDE online community of likeminded people interested to learn about their health by discussing about Ethnic background lifestyles\, testimonials and other’s journey’s on self-discovery.\n  \nPlease join us to support our guest speaker Joshua and Emily in exploring what it means to maintain a Healthy  Lifestyle .\n  \nJoshua is 136 Kg and wants to lose weight and to become healthier and fitter. We’ll develop few strategies and goals during our youtube live so Joshua can utilise those tips and solutions for transformation  to a healthier lifestyle.\n  \nEmily suffers from work stress at her corporate job and not struggles to maintain a work life balance in her busy lifestyle. She just want to be happy and to enjoy a healthy lifestyle from simple tips and we will share this through our discussion during our youtube live event for a Healthy Mind to Healthy Body.\n  \nPlease join us Motivational Mind-Healthy Lifestyle Youtube Live Talk Show.\n\n\n\n\n\nPlease send us your enquiries prior to our event for further support.\nSubscribe To Our Youtube Channel For Stay Connected Click The Below Button
URL:https://www.mindforlife.org.au/event/motivational-mind-healthy-lifestyle-youtube-live-talk-show/
LOCATION:Mindforlife Youtube channel
ATTACH;FMTTYPE=image/jpeg:https://www.mindforlife.org.au/wp-content/uploads/2019/09/Motivational-Healthy-Lifestyle-tips-to-fight-Obesity-Mental-Stress5.jpg
END:VEVENT
BEGIN:VEVENT
DTSTART;TZID=Australia/Sydney:20190909T120000
DTEND;TZID=Australia/Sydney:20190909T130000
DTSTAMP:20260425T060254
CREATED:20190827T000648Z
LAST-MODIFIED:20190827T000648Z
UID:9907-1568030400-1568034000@www.mindforlife.org.au
SUMMARY:Motivational Mind - Healthy Lifestyle YouTube Live Talk Show
DESCRIPTION:YOUTUBE LIVE – TALK SHOW\nOUR  PURPOSE \nMind For Life aims to create meaningful connections within WORLDWIDE online community of likeminded people interested to learn about their health by discussing about Ethnic background lifestyles\, testimonials and other’s journey’s on self-discovery.\n  \nPlease join us to support our guest speaker Joshua and Emily in exploring what it means to maintain a Healthy  Lifestyle .\n  \nJoshua is 136 Kg and wants to lose weight and to become healthier and fitter. We’ll develop few strategies and goals during our youtube live so Joshua can utilise those tips and solutions for transformation  to a healthier lifestyle.\n  \nEmily suffers from work stress at her corporate job and not struggles to maintain a work life balance in her busy lifestyle. She just want to be happy and to enjoy a healthy lifestyle from simple tips and we will share this through our discussion during our youtube live event for a Healthy Mind to Healthy Body.\n  \nPlease join us Motivational Mind-Healthy Lifestyle Youtube Live Talk Show.\n\n\n\n\n\nPlease send us your enquiries prior to our event for further support.\nSubscribe To Our Youtube Channel For Stay Connected Click The Below Button
URL:https://www.mindforlife.org.au/event/motivational-mind-healthy-lifestyle-youtube-live-talk-show-2/
LOCATION:Mindforlife Youtube channel
ATTACH;FMTTYPE=image/jpeg:https://www.mindforlife.org.au/wp-content/uploads/2019/09/Motivational-Healthy-Lifestyle-tips-to-fight-Obesity-Mental-Stress5.jpg
END:VEVENT
END:VCALENDAR